BEGIN:VCALENDAR
VERSION:2.0
PRODID:-//National Squib Association - ECPv6.15.20//NONSGML v1.0//EN
CALSCALE:GREGORIAN
METHOD:PUBLISH
X-WR-CALNAME:National Squib Association
X-ORIGINAL-URL:https://squibs.co.uk
X-WR-CALDESC:Events for National Squib Association
REFRESH-INTERVAL;VALUE=DURATION:PT1H
X-Robots-Tag:noindex
X-PUBLISHED-TTL:PT1H
BEGIN:VTIMEZONE
TZID:Europe/London
BEGIN:DAYLIGHT
TZOFFSETFROM:+0000
TZOFFSETTO:+0100
TZNAME:BST
DTSTART:20230326T010000
END:DAYLIGHT
BEGIN:STANDARD
TZOFFSETFROM:+0100
TZOFFSETTO:+0000
TZNAME:GMT
DTSTART:20231029T010000
END:STANDARD
BEGIN:DAYLIGHT
TZOFFSETFROM:+0000
TZOFFSETTO:+0100
TZNAME:BST
DTSTART:20240331T010000
END:DAYLIGHT
BEGIN:STANDARD
TZOFFSETFROM:+0100
TZOFFSETTO:+0000
TZNAME:GMT
DTSTART:20241027T010000
END:STANDARD
BEGIN:DAYLIGHT
TZOFFSETFROM:+0000
TZOFFSETTO:+0100
TZNAME:BST
DTSTART:20250330T010000
END:DAYLIGHT
BEGIN:STANDARD
TZOFFSETFROM:+0100
TZOFFSETTO:+0000
TZNAME:GMT
DTSTART:20251026T010000
END:STANDARD
BEGIN:DAYLIGHT
TZOFFSETFROM:+0000
TZOFFSETTO:+0100
TZNAME:BST
DTSTART:20260329T010000
END:DAYLIGHT
BEGIN:STANDARD
TZOFFSETFROM:+0100
TZOFFSETTO:+0000
TZNAME:GMT
DTSTART:20261025T010000
END:STANDARD
BEGIN:DAYLIGHT
TZOFFSETFROM:+0000
TZOFFSETTO:+0100
TZNAME:BST
DTSTART:20270328T010000
END:DAYLIGHT
BEGIN:STANDARD
TZOFFSETFROM:+0100
TZOFFSETTO:+0000
TZNAME:GMT
DTSTART:20271031T010000
END:STANDARD
END:VTIMEZONE
BEGIN:VEVENT
DTSTART;VALUE=DATE:20260328
DTEND;VALUE=DATE:20260330
DTSTAMP:20260423T093307
CREATED:20251020T061541Z
LAST-MODIFIED:20251020T061541Z
UID:2671-1774656000-1774828799@squibs.co.uk
SUMMARY:The Broadland Regatta 2026
DESCRIPTION:Two more days of great racing on Oulton Broad\, and legendary Broadland hospitality ashore. \nFor most visitors it’s great weekend to blow off the cobwebs and gear up for the new season but beware\, the locals have been practicing all winter!!
URL:https://squibs.co.uk/event/the-broadland-regatta-2026/
LOCATION:Waveney & Oulton Broad Yacht Club\, Nicholas Everitt Park\, Lowestoft\, NR339JR\, United Kingdom
ATTACH;FMTTYPE=image/jpeg:https://squibs.co.uk/wp-content/uploads/2024/09/IMG_2597-1-scaled.jpg
END:VEVENT
BEGIN:VEVENT
DTSTART;VALUE=DATE:20260221
DTEND;VALUE=DATE:20260223
DTSTAMP:20260423T093307
CREATED:20260111T151113Z
LAST-MODIFIED:20260125T215642Z
UID:2758-1771632000-1771804799@squibs.co.uk
SUMMARY:RYA Dinghy & Watersports Show
DESCRIPTION:It’s almost impossible to visit this show and leave without gaining something of real value\, along\, perhaps\, with  athe new P.F.D\, some fancy new cleats\, a winning hat or that essential bit of string………… \nThe RYA’s lectures and coaching sessions alone are worth the ticket but it’s the chat on the excellent Squib stand and the cunning fittings or boat set-up you might spot that can prove to be the real gold! \n 
URL:https://squibs.co.uk/event/rya-dinght-watersports-show/
LOCATION:The Show Centre\, Etps Road\, Farnborough\, GU146FD\, United Kingdom
ATTACH;FMTTYPE=image/gif:https://squibs.co.uk/wp-content/uploads/2026/01/RYADWS-animated-gif-maker-1.gif
END:VEVENT
BEGIN:VEVENT
DTSTART;VALUE=DATE:20251011
DTEND;VALUE=DATE:20251013
DTSTAMP:20260423T093307
CREATED:20241014T210555Z
LAST-MODIFIED:20250908T212516Z
UID:2248-1760140800-1760313599@squibs.co.uk
SUMMARY:Squib Irish Inland Champs
DESCRIPTION:Lough Derg never fails to delight with this event. \nIt simply goes from strength to strength and for very good reason is on many Squibbers ‘unmissable ‘ list.
URL:https://squibs.co.uk/event/squib-irish-inland-champs/
LOCATION:Lough Derg Yacht Club\, Dromineer\, Co. Tipperary\, Munster\, E45 NY60\, Ireland
ATTACH;FMTTYPE=image/jpeg:https://squibs.co.uk/wp-content/uploads/2024/10/Lough-Derg-Run-banner.jpg
END:VEVENT
BEGIN:VEVENT
DTSTART;VALUE=DATE:20251004
DTEND;VALUE=DATE:20251006
DTSTAMP:20260423T093307
CREATED:20241211T122104Z
LAST-MODIFIED:20241211T122309Z
UID:2328-1759536000-1759708799@squibs.co.uk
SUMMARY:Squib UK Inland Champs 2025
DESCRIPTION:Rutland Sailing Club again invites all Squib sailoirs to their ever-special closing event to the UK Squib calendar. \nWatch this space for more details but get the dates into your diary NOW
URL:https://squibs.co.uk/event/uk-inland-championships-2025/
LOCATION:Rutland Sailing Club\, Gibbet Lane\, Edith Weston\, Oakham\, LE15 8HJ\, United Kingdom
ATTACH;FMTTYPE=image/jpeg:https://squibs.co.uk/wp-content/uploads/2022/09/DSC_4816-e1729762991855.jpg
END:VEVENT
BEGIN:VEVENT
DTSTART;VALUE=DATE:20250920
DTEND;VALUE=DATE:20250922
DTSTAMP:20260423T093307
CREATED:20250110T173448Z
LAST-MODIFIED:20250110T174001Z
UID:2368-1758326400-1758499199@squibs.co.uk
SUMMARY:Scottish & Northern Championships 2025
DESCRIPTION:An impressive yacht club in an impressive location.  No excuses for any Scottish Squibbers and well worth the trip for anyone South of the border. \nAn opportunity to join the growing Royal Forth Squib fleet for another weekend of great racing and great hospitality.
URL:https://squibs.co.uk/event/scottish-northern-championships-2025/
LOCATION:Royal Forth Yacht Club\, Granton Harbour\, Middle Pier\, Edinburgh\, Scotland\, EH5 1HF\, United Kingdom
ATTACH;FMTTYPE=image/jpeg:https://squibs.co.uk/wp-content/uploads/2024/07/Squib-Nationals-24.2.jpg
END:VEVENT
BEGIN:VEVENT
DTSTART;VALUE=DATE:20250920
DTEND;VALUE=DATE:20250922
DTSTAMP:20260423T093307
CREATED:20241016T145350Z
LAST-MODIFIED:20241016T145413Z
UID:2256-1758326400-1758499199@squibs.co.uk
SUMMARY:2025 UK South Coast Champs
DESCRIPTION:The Royal Victoria Yacht Club  fleet have a great weekend in store for Squib sailors treating themselves to a trip over to the Isle of Wight next year. \nThis  true gem of a  sailing club never fails to lay on hospitality and racing of the highest order\,  so get this one into your diary now! \n(Provisional Dates – to be confirmed shortly)
URL:https://squibs.co.uk/event/2025-uk-south-coast-champs/
LOCATION:Royal Victoria Yacht Club\, 91 Fishbourne Lane\, Ryde\, PO33 4EU
ATTACH;FMTTYPE=image/jpeg:https://squibs.co.uk/wp-content/uploads/2022/07/Small-Royal-Victoria-YC.jpg
END:VEVENT
BEGIN:VEVENT
DTSTART;VALUE=DATE:20250906
DTEND;VALUE=DATE:20250908
DTSTAMP:20260423T093307
CREATED:20241014T210142Z
LAST-MODIFIED:20241014T210142Z
UID:2246-1757116800-1757289599@squibs.co.uk
SUMMARY:Irish East Coast Champs
DESCRIPTION:Howth  Yacht Club is once again set to provide more great Squib racing. \nBe there!
URL:https://squibs.co.uk/event/irish-east-coast-champs/
LOCATION:Howth Yacht Club\, Middle Pier\, Howth Harbour\, Howth\, D13 E6V3\, Ireland
ATTACH;FMTTYPE=image/jpeg:https://squibs.co.uk/wp-content/uploads/2023/09/IRISH-SQUIB-EASTERNS-2.jpg
END:VEVENT
BEGIN:VEVENT
DTSTART;VALUE=DATE:20250827
DTEND;VALUE=DATE:20250901
DTSTAMP:20260423T093307
CREATED:20241214T115054Z
LAST-MODIFIED:20241214T115203Z
UID:2344-1756252800-1756684799@squibs.co.uk
SUMMARY:Welsh Squib Open 2025
DESCRIPTION:Nailed into the SCYC Calendar as  ‘unmissable’  for local Squibs and a real treat for any visitors\, it’s hard to find better open water sailing anywhere in Europe. \nAdd to that a club steeped in Squib tradition\, on the Gold Standard of race management and in a totally family-friendly summer holiday destination\, this mid-summer event has a great deal going for it.
URL:https://squibs.co.uk/event/welsh-squib-open-2025/
LOCATION:South Caernarvonshire Yacht Club\, The Headland\, Abersoch\, LL53 7DP\, United Kingdom
ATTACH;FMTTYPE=image/jpeg:https://squibs.co.uk/wp-content/uploads/2022/08/Squib-013.jpg
END:VEVENT
BEGIN:VEVENT
DTSTART;VALUE=DATE:20250823
DTEND;VALUE=DATE:20250831
DTSTAMP:20260423T093307
CREATED:20241017T145541Z
LAST-MODIFIED:20241017T145541Z
UID:2262-1755907200-1756598399@squibs.co.uk
SUMMARY:Burnham Week 2025
DESCRIPTION:For many years the Squib fleet has been a big part of what defines Burnham Week.  2025 will be no different. \n 
URL:https://squibs.co.uk/event/burnham-week-2025/
LOCATION:Royal Corinthian Yacht Club\, The Quay\, Burnham-on-Crouch\, CM0 8AX\, United Kingdom
ATTACH;FMTTYPE=image/jpeg:https://squibs.co.uk/wp-content/uploads/2023/09/BURNHAM-WK-23.jpg
END:VEVENT
BEGIN:VEVENT
DTSTART;TZID=Europe/London:20250817T080000
DTEND;TZID=Europe/London:20250822T170000
DTSTAMP:20260423T093307
CREATED:20250102T223049Z
LAST-MODIFIED:20250102T223132Z
UID:2362-1755417600-1755882000@squibs.co.uk
SUMMARY:Oulton Broad Week 2025
DESCRIPTION:Already unmissable for many Squibbers this charming summer regatta is rooted in the finest yachting traditions. Corinthain sailing at it’s very best.
URL:https://squibs.co.uk/event/oulton-broad-week-2025/
LOCATION:Waveney & Oulton Broad Yacht Club\, Nicholas Everitt Park\, Lowestoft\, NR339JR\, United Kingdom
ATTACH;FMTTYPE=image/jpeg:https://squibs.co.uk/wp-content/uploads/2022/11/Squibs-at-Oulton-Broad-crop-1.jpg
END:VEVENT
BEGIN:VEVENT
DTSTART;VALUE=DATE:20250720
DTEND;VALUE=DATE:20250725
DTSTAMP:20260423T093307
CREATED:20250114T225644Z
LAST-MODIFIED:20250114T225819Z
UID:2395-1752969600-1753401599@squibs.co.uk
SUMMARY:Lowestoft Sea Week
DESCRIPTION:Following straight on from the East Coast Champs\, just 45 miles up the coast\,\n\nFour days of superb sea sailing.\n\nMorning and / or afternoon series.
URL:https://squibs.co.uk/event/lowestoft-sea-week/
LOCATION:Royal Norfolk & Suffolk Yacht Club\, Royal Plain\, Lowestoft\, Suffolk\, NR33 0AQ\, United Kingdom
ATTACH;FMTTYPE=image/jpeg:https://squibs.co.uk/wp-content/uploads/2025/01/Lowestoft-1.crop_.jpg
END:VEVENT
BEGIN:VEVENT
DTSTART;VALUE=DATE:20250719
DTEND;VALUE=DATE:20250721
DTSTAMP:20260423T093307
CREATED:20241016T142541Z
LAST-MODIFIED:20241117T114430Z
UID:2250-1752883200-1753055999@squibs.co.uk
SUMMARY:2025 UK East Coast Champs
DESCRIPTION:Haven Ports Yacht Club’s Squib fleet is gearing up to give a great welcome to travelling Squibs for the 2025  East Coast title event. Their superb Dovercourt Bay race area has witnessed some memorable racing over the years.
URL:https://squibs.co.uk/event/2025-uk-east-coast-champs/
LOCATION:Haven Ports Yacht Club\, Suffolk Yacht Harbour\, Levington\, Suffolk\, IP10 0LN\, United Kingdom
ATTACH;FMTTYPE=image/jpeg:https://squibs.co.uk/wp-content/uploads/2024/10/Haven-Ports-Squib-Fleet.jpg
END:VEVENT
BEGIN:VEVENT
DTSTART;VALUE=DATE:20250719
DTEND;VALUE=DATE:20250721
DTSTAMP:20260423T093307
CREATED:20241014T204738Z
LAST-MODIFIED:20241014T204738Z
UID:2244-1752883200-1753055999@squibs.co.uk
SUMMARY:Irish Southern Squib Champs
DESCRIPTION:The vibrant Kinsale fleet again plays host to travelling Squibs. \nA sure-fired winner for all concerned.
URL:https://squibs.co.uk/event/irish-southern-squib-champs/
LOCATION:Kinsale Yacht Club\, 26 Lower O'Connell Street\, Scilly\, Kinsale\, County Cork\, P17 KT68\, Ireland
ATTACH;FMTTYPE=image/jpeg:https://squibs.co.uk/wp-content/uploads/2023/08/Irish-Squib-Southerns-Mark1-e1691933771378.jpg
END:VEVENT
BEGIN:VEVENT
DTSTART;VALUE=DATE:20250622
DTEND;VALUE=DATE:20250628
DTSTAMP:20260423T093307
CREATED:20240623T215642Z
LAST-MODIFIED:20241118T105636Z
UID:2043-1750550400-1751068799@squibs.co.uk
SUMMARY:The 2025 National Squib Championships
DESCRIPTION:The Squib fleet is returning to Torbay by popular demand and a great turnout is anticipated. The Royal Torbay Yacht Club team is working hard on the fine details that will ensure yet another special racing experience for the whole fleet. \n  \n \nVIDEO OF TORQUAY AND THE HOST CLUB \n  \n 
URL:https://squibs.co.uk/event/the-2025-national-squib-championships/
LOCATION:The Royal Torbay Yacht Club\, 12 Beacon Terrace\, Torquay\, TQ1 2BH\, United Kingdom
ATTACH;FMTTYPE=image/jpeg:https://squibs.co.uk/wp-content/uploads/2024/06/TORQUAY-FLEET-2.-crop.jpg
END:VEVENT
BEGIN:VEVENT
DTSTART;VALUE=DATE:20250614
DTEND;VALUE=DATE:20250616
DTSTAMP:20260423T093307
CREATED:20250114T225237Z
LAST-MODIFIED:20250114T225237Z
UID:2390-1749859200-1750031999@squibs.co.uk
SUMMARY:RNSYC June Regatta
DESCRIPTION:Hosted by the Royal Norfolk & Suffolk Yacht Club \n\n\nThe last chance for some sea practise before the Nationals. Come along to the sunny East Coast for four races at Lowestoft. \n\nLaunching Friday\, for a 10:30 first start on Saturday.
URL:https://squibs.co.uk/event/rnsyc-june-regatta/
LOCATION:Royal Norfolk & Suffolk Yacht Club\, Royal Plain\, Lowestoft\, Suffolk\, NR33 0AQ\, United Kingdom
ATTACH;FMTTYPE=image/jpeg:https://squibs.co.uk/wp-content/uploads/2025/01/Lowestoft-2.-cr.jpg
END:VEVENT
BEGIN:VEVENT
DTSTART;VALUE=DATE:20250612
DTEND;VALUE=DATE:20250615
DTSTAMP:20260423T093307
CREATED:20250325T170209Z
LAST-MODIFIED:20250605T113435Z
UID:2511-1749686400-1749945599@squibs.co.uk
SUMMARY:Malaysian Squib Championships 2025
DESCRIPTION:The Peninsular Sailing Club SQUIB fleet is going from strength to strength and again hosts its flagship championship event in June. \nThis year the local stalwarts will be again be welcoming a star-studded visitor list for three days of keen racing to see who will be crowned Malaysian Squib Champion in 2025. \nA MESSAGE TO ALL COMPETITORS \nDB TO JC
URL:https://squibs.co.uk/event/malaysiona-championships/
LOCATION:Peninsular Sailing club\, Pulau Indah Marina\, Selangor\, Pulau\, 14920\, Malaysia
ATTACH;FMTTYPE=image/jpeg:https://squibs.co.uk/wp-content/uploads/2025/03/4th-National-Squib-Orange.jpg
END:VEVENT
BEGIN:VEVENT
DTSTART;VALUE=DATE:20250606
DTEND;VALUE=DATE:20250609
DTSTAMP:20260423T093307
CREATED:20241014T203649Z
LAST-MODIFIED:20250110T180700Z
UID:2242-1749168000-1749427199@squibs.co.uk
SUMMARY:2025 Irish Squib Nationals
DESCRIPTION:Lough Derg Yacht Club are looking for record entry for the 2025 Squib Nationals. \nThe enthusiasm of the local Squib fleet and the iconic Shannon setting are reason enough to be involved.
URL:https://squibs.co.uk/event/2025-irish-squib-nationals/
LOCATION:Lough Derg Yacht Club\, Dromineer\, Co. Tipperary\, Munster\, E45 NY60\, Ireland
ATTACH;FMTTYPE=image/jpeg:https://squibs.co.uk/wp-content/uploads/2024/10/Lough-Derg-start-1.jpg
END:VEVENT
BEGIN:VEVENT
DTSTART;VALUE=DATE:20250530
DTEND;VALUE=DATE:20250603
DTSTAMP:20260423T093307
CREATED:20250315T190200Z
LAST-MODIFIED:20250315T193706Z
UID:2461-1748563200-1748908799@squibs.co.uk
SUMMARY:Cowes Classic Week
DESCRIPTION:Classic Solent racing at one of the most iconic yachting venues. \nAn annual gathering of the clans for many of the more active racing keelboat classes in a genuinely unique environment. \nAs ever the Squib fleet has the added advantage of the immensley  sociable Royal Victoria Y C in close support. \nIf you are interested just let Steve Warren Smith or Chris Gear know. The Squibs have their  own start line\, proper courses in the Eastern Solent and moorings at Fishbourne\, launch service from the Royal Victoria Yacht Club. 8 races in 4 days. It was great last year. \n  \nRoyal Victoria YC
URL:https://squibs.co.uk/event/cowes-classic-week/
LOCATION:Cowes\, 18 Bath Rd\, Cowes\, PO31 7QN\, United Kingdom
ATTACH;FMTTYPE=image/jpeg:https://squibs.co.uk/wp-content/uploads/2022/12/Cowes-view2.jpg
END:VEVENT
BEGIN:VEVENT
DTSTART;VALUE=DATE:20250524
DTEND;VALUE=DATE:20250527
DTSTAMP:20260423T093307
CREATED:20241018T072323Z
LAST-MODIFIED:20241018T075721Z
UID:2265-1748044800-1748303999@squibs.co.uk
SUMMARY:Royal Burnham Yacht Club Whitsun Regatta
DESCRIPTION:Another Burnham tradition making a comeback as far as the Squibs are concerned. \nJoin a fleet of over 20 Squibs for some more Burnham fun on and off the water. \nFor all you need to know contact Dan Wastnage
URL:https://squibs.co.uk/event/royal-burnham-yacht-club-whitsun-regatta/
LOCATION:Royal Burnham Yacht Club
ATTACH;FMTTYPE=image/jpeg:https://squibs.co.uk/wp-content/uploads/2024/10/squib-whole-fleet-eCC-1-1024x370-1.jpg
END:VEVENT
BEGIN:VEVENT
DTSTART;VALUE=DATE:20250517
DTEND;VALUE=DATE:20250519
DTSTAMP:20260423T093307
CREATED:20241014T103911Z
LAST-MODIFIED:20241014T204031Z
UID:2222-1747440000-1747612799@squibs.co.uk
SUMMARY:Irish Northern Squib Championships
DESCRIPTION:Another chance to sample the delights of Strangford Lough and the Kiillyleagh Yacht Club’s superb\, unique brand of event hospitality. \nNot to be missed!
URL:https://squibs.co.uk/event/irish-northern-championshios/
LOCATION:Killyleagh Yacht Club\, 22a Cuan Beach\, Killyleagh\, Downpatrick\, BT309QU\, Ireland
ATTACH;FMTTYPE=image/jpeg:https://squibs.co.uk/wp-content/uploads/2023/08/Irish-Squib-Southerns-Mark1-e1691933771378.jpg
END:VEVENT
BEGIN:VEVENT
DTSTART;VALUE=DATE:20250503
DTEND;VALUE=DATE:20250506
DTSTAMP:20260423T093307
CREATED:20241017T144914Z
LAST-MODIFIED:20241017T144914Z
UID:2260-1746230400-1746489599@squibs.co.uk
SUMMARY:2025 Squib Gold Cup
DESCRIPTION:Burnham’s unforgettable blend of racing and hospitality. \nThis event has evolved into a ‘must-do’ for many East Coast Squib owners\, determined to make the most of the first May bank holiday.
URL:https://squibs.co.uk/event/2025-squib-gold-cup/
LOCATION:Royal Corinthian Yacht Club\, The Quay\, Burnham-on-Crouch\, CM0 8AX\, United Kingdom
ATTACH;FMTTYPE=image/jpeg:https://squibs.co.uk/wp-content/uploads/2024/08/Squibs-Rounding-the-windward-Mark.-By-Nick-Skeens.-04-Oct-2023-3.jpg
END:VEVENT
BEGIN:VEVENT
DTSTART;VALUE=DATE:20250329
DTEND;VALUE=DATE:20250331
DTSTAMP:20260423T093307
CREATED:20250102T214501Z
LAST-MODIFIED:20250330T222752Z
UID:2356-1743206400-1743379199@squibs.co.uk
SUMMARY:The Broadland Regatta 2025
DESCRIPTION:Two more days of great racing on Oulton Broad\, and brilliant Broadland hospitality ashore. \nFor most visitors it’s great weekend to blow off the cobwebs and gear up for the new season but beware\, the locals have been practicing all winter!!
URL:https://squibs.co.uk/event/the-broadlands-regatta-2023/
LOCATION:Waveney & Oulton Broad Yacht Club\, Nicholas Everitt Park\, Lowestoft\, NR339JR\, United Kingdom
ATTACH;FMTTYPE=image/jpeg:https://squibs.co.uk/wp-content/uploads/2024/09/IMG_2597-1-scaled.jpg
END:VEVENT
BEGIN:VEVENT
DTSTART;VALUE=DATE:20250222
DTEND;VALUE=DATE:20250224
DTSTAMP:20260423T093307
CREATED:20250102T221659Z
LAST-MODIFIED:20250102T221659Z
UID:2359-1740182400-1740355199@squibs.co.uk
SUMMARY:2025 RYA Dinghy & Watersports Show
DESCRIPTION:Already a regular pilgrimage for many Squib sailors and another chance to compare plans and ideas\, check oiut the latest kit and top up on all the gossip! \nAs ever there’ll be a strong Squib Class presence at a unique event that’s the envy of many of the other sailing nations. \n  \n  \n 
URL:https://squibs.co.uk/event/2025-rya-dinghy-watersports-show/
LOCATION:The Show Centre\, Etps Road\, Farnborough\, GU146FD\, United Kingdom
ATTACH;FMTTYPE=image/gif:https://squibs.co.uk/wp-content/uploads/2025/01/RYA_DAWS25_Website-Hero-Banner01.gif
END:VEVENT
BEGIN:VEVENT
DTSTART;VALUE=DATE:20241012
DTEND;VALUE=DATE:20241014
DTSTAMP:20260423T093307
CREATED:20231202T203445Z
LAST-MODIFIED:20231202T203507Z
UID:1701-1728691200-1728863999@squibs.co.uk
SUMMARY:2024 Irish Inland Championships
DESCRIPTION:This amazing event just grows and grows. \nRound off the season in truly stunning surroundings in great company for some brilliant close Squib racing. \nGreat club. Great pub. Great fun. \nWell worth the trip.
URL:https://squibs.co.uk/event/2024-irish-inland-championships/
LOCATION:Lough Derg Yacht Club\, Dromineer\, Co. Tipperary\, Munster\, E45 NY60\, Ireland
ATTACH;FMTTYPE=image/jpeg:https://squibs.co.uk/wp-content/uploads/2022/07/Small-Lough-Derg-Yacht-Club.jpg
END:VEVENT
BEGIN:VEVENT
DTSTART;VALUE=DATE:20241005
DTEND;VALUE=DATE:20241007
DTSTAMP:20260423T093307
CREATED:20240628T182336Z
LAST-MODIFIED:20240901T164059Z
UID:2049-1728086400-1728259199@squibs.co.uk
SUMMARY:UK Inland Championships
DESCRIPTION:A perennial favourite in the UK Squib calendar! \nRutland Water is so perfectly placed to host this spectacular season-closing event for the Squib cogniscenti and we’re looking  for a great turnout.  An unmissable opportunity to catch up with old friends\, make new ones and to compare notes on the season past. \nPlus the usual brilliant racing. A real treat to end the season on.
URL:https://squibs.co.uk/event/uk-inland-championships/
LOCATION:Rutland Sailing Club\, Gibbet Lane\, Edith Weston\, Oakham\, LE15 8HJ\, United Kingdom
ATTACH;FMTTYPE=image/jpeg:https://squibs.co.uk/wp-content/uploads/2022/09/DSC_4816-e1729762991855.jpg
END:VEVENT
BEGIN:VEVENT
DTSTART;VALUE=DATE:20240928
DTEND;VALUE=DATE:20240930
DTSTAMP:20260423T093307
CREATED:20240807T091210Z
LAST-MODIFIED:20240807T091210Z
UID:2115-1727481600-1727654399@squibs.co.uk
SUMMARY:2024 Scottish & Northern Championships
DESCRIPTION:The final Area Championships of the season and another chance to sample some superb racing and hospitality at the Royal Forth YC. \nWhat’s not to like? \n 
URL:https://squibs.co.uk/event/2024-scottish-northern-championships/
LOCATION:Royal Forth Yacht Club\, Granton Harbour\, Middle Pier\, Edinburgh\, Scotland\, EH5 1HF\, United Kingdom
ATTACH;FMTTYPE=image/jpeg:https://squibs.co.uk/wp-content/uploads/2023/01/RFYC-Squibs.jpg
END:VEVENT
BEGIN:VEVENT
DTSTART;VALUE=DATE:20240914
DTEND;VALUE=DATE:20240916
DTSTAMP:20260423T093307
CREATED:20240203T215733Z
LAST-MODIFIED:20240806T181018Z
UID:1826-1726272000-1726444799@squibs.co.uk
SUMMARY:UK South Coast Championships 2024
DESCRIPTION:Another great opportunity to race in Weymouth Bay. We are invited to join with Weymouth’s combined sailing clubs’ late-season keelboat regatta to race for our South Coast Championship title. The Squibs will have their own separate Class start in this event. Fun afloat and fun on shore. \nEntries are open via the event website here. Please contact the Weymouth Squib team at  squibs24@wsc.org.uk  if you encounte rany problems. \nBe aware of the declared limit of 20 visiting boats.
URL:https://squibs.co.uk/event/uk-south-coast-championships-2024/
LOCATION:Weymouth\, Nothe Parade\, Weymouth\, Dorset\, DT4 8TX\, United Kingdom
ATTACH;FMTTYPE=image/jpeg:https://squibs.co.uk/wp-content/uploads/2022/07/Small-Weymouth-SC.jpg
END:VEVENT
BEGIN:VEVENT
DTSTART;TZID=Europe/London:20240907T080000
DTEND;TZID=Europe/London:20240908T170000
DTSTAMP:20260423T093307
CREATED:20231202T181542Z
LAST-MODIFIED:20231219T095155Z
UID:1690-1725696000-1725814800@squibs.co.uk
SUMMARY:Irish 2024 Eastern Championships
DESCRIPTION:The Dun Laoghaire Squib fleet extend their warmest welcome to all Squib sailors to Dublin Bay. \n‘The Royal George’ is synonymous with great yachting events and boasts a classic venue close to the heart of Dublin. What’s not to like?
URL:https://squibs.co.uk/event/irish-2024-eastern-championships/
LOCATION:Scotland
ATTACH;FMTTYPE=image/jpeg:https://squibs.co.uk/wp-content/uploads/2023/12/Royal-George-scaled.jpg
END:VEVENT
BEGIN:VEVENT
DTSTART;VALUE=DATE:20240804
DTEND;VALUE=DATE:20240810
DTSTAMP:20260423T093307
CREATED:20231018T211907Z
LAST-MODIFIED:20240807T204244Z
UID:1643-1722729600-1723247999@squibs.co.uk
SUMMARY:Welsh Squib Week 2024
DESCRIPTION:Is there a better place to spend a week racing at the height of the summer holiday season? \nThe SCYC Squib Fleet invites visitors to join them for a week of great racing at one of the Class’s favourite ‘destination’ venues. \n  \n 
URL:https://squibs.co.uk/event/welsh-squib-week-2024/
LOCATION:South Caernarvonshire Yacht Club\, The Headland\, Abersoch\, LL53 7DP\, United Kingdom
ATTACH;FMTTYPE=image/jpeg:https://squibs.co.uk/wp-content/uploads/2022/08/Squib-013.jpg
END:VEVENT
BEGIN:VEVENT
DTSTART;VALUE=DATE:20240727
DTEND;VALUE=DATE:20240804
DTSTAMP:20260423T093307
CREATED:20231018T214248Z
LAST-MODIFIED:20231018T214505Z
UID:1647-1722038400-1722729599@squibs.co.uk
SUMMARY:Cowes Week 2024
DESCRIPTION:Classic Solent Racing at one of yacht racing’s traditional homes. \nCowes never fails to deliver it’s unique brand of racing challenges and land-based entertainment. \n 
URL:https://squibs.co.uk/event/cowes-week-2024/
LOCATION:Cowes\, 18 Bath Rd\, Cowes\, PO31 7QN\, United Kingdom
ATTACH;FMTTYPE=image/jpeg:https://squibs.co.uk/wp-content/uploads/2022/12/Squibs-Up-Cowes-Green.jpg
END:VEVENT
END:VCALENDAR