BEGIN:VCALENDAR
VERSION:2.0
PRODID:-//National Squib Association - ECPv6.15.20//NONSGML v1.0//EN
CALSCALE:GREGORIAN
METHOD:PUBLISH
X-WR-CALNAME:National Squib Association
X-ORIGINAL-URL:https://squibs.co.uk
X-WR-CALDESC:Events for National Squib Association
REFRESH-INTERVAL;VALUE=DURATION:PT1H
X-Robots-Tag:noindex
X-PUBLISHED-TTL:PT1H
BEGIN:VTIMEZONE
TZID:Europe/London
BEGIN:DAYLIGHT
TZOFFSETFROM:+0000
TZOFFSETTO:+0100
TZNAME:BST
DTSTART:20250330T010000
END:DAYLIGHT
BEGIN:STANDARD
TZOFFSETFROM:+0100
TZOFFSETTO:+0000
TZNAME:GMT
DTSTART:20251026T010000
END:STANDARD
BEGIN:DAYLIGHT
TZOFFSETFROM:+0000
TZOFFSETTO:+0100
TZNAME:BST
DTSTART:20260329T010000
END:DAYLIGHT
BEGIN:STANDARD
TZOFFSETFROM:+0100
TZOFFSETTO:+0000
TZNAME:GMT
DTSTART:20261025T010000
END:STANDARD
BEGIN:DAYLIGHT
TZOFFSETFROM:+0000
TZOFFSETTO:+0100
TZNAME:BST
DTSTART:20270328T010000
END:DAYLIGHT
BEGIN:STANDARD
TZOFFSETFROM:+0100
TZOFFSETTO:+0000
TZNAME:GMT
DTSTART:20271031T010000
END:STANDARD
END:VTIMEZONE
BEGIN:VEVENT
DTSTART;VALUE=DATE:20260606
DTEND;VALUE=DATE:20260608
DTSTAMP:20260423T093523
CREATED:20251109T103633Z
LAST-MODIFIED:20251109T111821Z
UID:2683-1780704000-1780876799@squibs.co.uk
SUMMARY:The Celtic Cup 2026
DESCRIPTION:The Cunning Celtic Plan:\nHolyhead Sailing Club is delighted to be hosting the second Celtic Cup Sailing Regatta from Saturday 6th to Sunday 7th June 2026. The event will take place in the beautiful waters in and around Holyhead Bay\, offering spectacular coastal scenery and fantastic sailing conditions.\nLaunching is scheduled for Friday 5th June.\nThe Celtic Cup is a friendly and welcoming regatta\, bringing together Squib sailors from both sides of the Irish Sea and beyond. With a perfect blend of great racing\, warm hospitality\, and stunning views\, we hope the event will serve as an ideal lead-in regatta for the UK Squib Nationals later in June.\nAs an added bonus\, sailors travelling from Ireland are welcome to leave their boats at Holyhead for easy collection en route to Abersoch for the Nationals a couple of weeks later.\nWe look forward to seeing you for a wonderful weekend of sailing\, friendship\, and fun on the water!\n    More information will be posted here as it becomes available\, so please feel free to pop back from time to time.
URL:https://squibs.co.uk/event/celtic-cup-2026/
LOCATION:Holyhead Sailing club\, Beach Road\, Holyhead\, Wales\, United Kingdom
ATTACH;FMTTYPE=image/jpeg:https://squibs.co.uk/wp-content/uploads/2025/08/Holyhead-Squib-Celtic-Cup-2025-Report2.jpg
END:VEVENT
BEGIN:VEVENT
DTSTART;VALUE=DATE:20260621
DTEND;VALUE=DATE:20260628
DTSTAMP:20260423T093523
CREATED:20251019T134911Z
LAST-MODIFIED:20260206T165304Z
UID:2664-1782000000-1782604799@squibs.co.uk
SUMMARY:2026 UK Nationals
DESCRIPTION:High on the  ‘favourite venues’ list for many Squib sailors\, and for very good reason. SCYC is waiting to welcome all-comers from both sides of the Irish Sea.
URL:https://squibs.co.uk/event/2026-uk-nationals/
LOCATION:South Caernarvonshire Yacht Club\, The Headland\, Abersoch\, LL53 7DP\, United Kingdom
ATTACH;FMTTYPE=image/jpeg:https://squibs.co.uk/wp-content/uploads/2025/10/SCYC-and-beach.jpg
END:VEVENT
END:VCALENDAR